BEGIN:VCALENDAR
CALSCALE:GREGORIAN
X-WR-TIMEZONE;VALUE=TEXT:GMT
PRODID:PEAK Corporation - piCal -
X-WR-CALNAME;VALUE=TEXT:Brigáda
VERSION:2.0
METHOD:PUBLISH
BEGIN:VTIMEZONE
TZID:GMT
BEGIN:STANDARD
DTSTART:19390101T000000
TZOFFSETFROM:+0000
TZOFFSETTO:+0000
TZNAME:GMT
END:STANDARD
END:VTIMEZONE
BEGIN:VEVENT
DTSTART:20090404T060000Z
DTEND:20090404T110000Z
LOCATION:ČRS MO Bělá pod Bezdězem
TRANSP:OPAQUE
SEQUENCE:1
UID:pical060-e23cd53e2c5cb36f4760d67b7ca26287
DTSTAMP:20090501T121942Z
CATEGORIES:
DESCRIPTION:Brigáda na revíru &quot;SLON&quot;
SUMMARY:Brigáda
PRIORITY:0
CLASS:PUBLIC
END:VEVENT
END:VCALENDAR
