BEGIN:VCALENDAR
CALSCALE:GREGORIAN
X-WR-TIMEZONE;VALUE=TEXT:GMT
PRODID:PEAK Corporation - piCal -
X-WR-CALNAME;VALUE=TEXT:Stěhování klubovny do nových prostor
VERSION:2.0
METHOD:PUBLISH
BEGIN:VTIMEZONE
TZID:GMT
BEGIN:STANDARD
DTSTART:19390101T000000
TZOFFSETFROM:+0000
TZOFFSETTO:+0000
TZNAME:GMT
END:STANDARD
END:VTIMEZONE
BEGIN:VEVENT
DTSTART:20090531T080000Z
DTEND:20090531T160000Z
LOCATION:ČRS MO Bělá pod Bezdězem
TRANSP:OPAQUE
SEQUENCE:0
UID:pical060-469179128a8afdf1b52afdd0aa05b5c0
DTSTAMP:20090521T193415Z
CATEGORIES:
DESCRIPTION:Upozornění pro členy MO ČRS Bělá pod Bezdězem \n\nOznamujeme všem členům naší místní organizace, že dne 31.05.2009 dojde ke stěhování naší klubovny z prostor zámku.\n\nOd 01.06.2009 nás najdete na nové adrese.Nová klubovna se nachází na rohu ulic Hradební a U Střelnice.Jsou to prostory bývalé autoškoly a vchod je ze zadní části budovy.\n
SUMMARY:Stěhování klubovny do nových prostor
PRIORITY:0
CLASS:PUBLIC
END:VEVENT
END:VCALENDAR
