BEGIN:VCALENDAR
CALSCALE:GREGORIAN
X-WR-TIMEZONE;VALUE=TEXT:GMT
PRODID:PEAK Corporation - piCal -
X-WR-CALNAME;VALUE=TEXT:Dětský den se Slonem
VERSION:2.0
METHOD:PUBLISH
BEGIN:VTIMEZONE
TZID:GMT
BEGIN:STANDARD
DTSTART:19390101T000000
TZOFFSETFROM:+0000
TZOFFSETTO:+0000
TZNAME:GMT
END:STANDARD
END:VTIMEZONE
BEGIN:VEVENT
DTSTART:20100530T130000Z
DTEND:20100530T190000Z
LOCATION:Bělá pod Bezdězem- revír Slon
TRANSP:OPAQUE
SEQUENCE:0
UID:pical060-11649d1a9a5c10b30bda47755489ae97
DTSTAMP:20100331T153017Z
CATEGORIES:
DESCRIPTION:Dětský den se Slonem pořádaný naší MO pro všechny děti
SUMMARY:Dětský den se Slonem
PRIORITY:0
CLASS:PUBLIC
END:VEVENT
END:VCALENDAR
